BEGIN:VCALENDAR
VERSION:2.0
PRODID:-//Zwingkoor - ECPv6.15.13.1//NONSGML v1.0//EN
CALSCALE:GREGORIAN
METHOD:PUBLISH
X-ORIGINAL-URL:https://zwingkoor.nl
X-WR-CALDESC:Evenementen voor Zwingkoor
REFRESH-INTERVAL;VALUE=DURATION:PT1H
X-Robots-Tag:noindex
X-PUBLISHED-TTL:PT1H
BEGIN:VTIMEZONE
TZID:Europe/Amsterdam
BEGIN:DAYLIGHT
TZOFFSETFROM:+0100
TZOFFSETTO:+0200
TZNAME:CEST
DTSTART:20230326T010000
END:DAYLIGHT
BEGIN:STANDARD
TZOFFSETFROM:+0200
TZOFFSETTO:+0100
TZNAME:CET
DTSTART:20231029T010000
END:STANDARD
BEGIN:DAYLIGHT
TZOFFSETFROM:+0100
TZOFFSETTO:+0200
TZNAME:CEST
DTSTART:20240331T010000
END:DAYLIGHT
BEGIN:STANDARD
TZOFFSETFROM:+0200
TZOFFSETTO:+0100
TZNAME:CET
DTSTART:20241027T010000
END:STANDARD
BEGIN:DAYLIGHT
TZOFFSETFROM:+0100
TZOFFSETTO:+0200
TZNAME:CEST
DTSTART:20250330T010000
END:DAYLIGHT
BEGIN:STANDARD
TZOFFSETFROM:+0200
TZOFFSETTO:+0100
TZNAME:CET
DTSTART:20251026T010000
END:STANDARD
END:VTIMEZONE
BEGIN:VEVENT
DTSTART;TZID=Europe/Amsterdam:20240420T120000
DTEND;TZID=Europe/Amsterdam:20240420T180000
DTSTAMP:20260422T235005
CREATED:20240227T233147Z
LAST-MODIFIED:20240227T234525Z
UID:6112-1713614400-1713636000@zwingkoor.nl
SUMMARY:Het Twents Volkslied - Koornmarkt
DESCRIPTION:Foto van de Koornmarkt in Almelo\nDe aftrap is met alle koren op de Koornmarkt met het Twents Volkslied.\nDaarna een wisseling van de koren op beide locaties. \nWees welkom! \nDeelnemers:\nZwingkoor\, Oostvaarders\, Schellevissen\, Akkoord\, Sursum Corda\, Toonkunst\, Almelo’s Mannenkoor\, Almelo’s Christelijk Mannenkoor\, Almelo’s Overdag Koor en het Orkest van Almelo
URL:https://zwingkoor.nl/event/koornmarkt-twents-volkslied/
LOCATION:De Doopsgezinde Kerk\, Grotestraat 57\, Almelo\, Overijssel\, Nederland
CATEGORIES:Ontwikkeling,Optredens
ORGANIZER;CN="Zwingkoor":MAILTO:zwingkoor@gmail.com
END:VEVENT
END:VCALENDAR