BEGIN:VCALENDAR
VERSION:2.0
PRODID:-//Zwingkoor - ECPv6.15.13.1//NONSGML v1.0//EN
CALSCALE:GREGORIAN
METHOD:PUBLISH
X-ORIGINAL-URL:https://zwingkoor.nl
X-WR-CALDESC:Evenementen voor Zwingkoor
REFRESH-INTERVAL;VALUE=DURATION:PT1H
X-Robots-Tag:noindex
X-PUBLISHED-TTL:PT1H
BEGIN:VTIMEZONE
TZID:Europe/Paris
BEGIN:DAYLIGHT
TZOFFSETFROM:+0100
TZOFFSETTO:+0200
TZNAME:CEST
DTSTART:20240331T010000
END:DAYLIGHT
BEGIN:STANDARD
TZOFFSETFROM:+0200
TZOFFSETTO:+0100
TZNAME:CET
DTSTART:20241027T010000
END:STANDARD
BEGIN:DAYLIGHT
TZOFFSETFROM:+0100
TZOFFSETTO:+0200
TZNAME:CEST
DTSTART:20250330T010000
END:DAYLIGHT
BEGIN:STANDARD
TZOFFSETFROM:+0200
TZOFFSETTO:+0100
TZNAME:CET
DTSTART:20251026T010000
END:STANDARD
BEGIN:DAYLIGHT
TZOFFSETFROM:+0100
TZOFFSETTO:+0200
TZNAME:CEST
DTSTART:20260329T010000
END:DAYLIGHT
BEGIN:STANDARD
TZOFFSETFROM:+0200
TZOFFSETTO:+0100
TZNAME:CET
DTSTART:20261025T010000
END:STANDARD
END:VTIMEZONE
BEGIN:VEVENT
DTSTART;TZID=Europe/Paris:20250710T193000
DTEND;TZID=Europe/Paris:20250710T203000
DTSTAMP:20260426T055011
CREATED:20250708T204055Z
LAST-MODIFIED:20250923T163336Z
UID:11168-1752175800-1752179400@zwingkoor.nl
SUMMARY:Zomerafsluiting met het Zwingkoor - Open repetitie op het water
DESCRIPTION:Kom genieten van een zwoele\, muzikale avond op een unieke locatie! Wij nodigen je van harte uit voor een gratis open repetitie/optreden op het drijvende podium op het Marktplein als feestelijke afsluiting van het zangseizoen. Het wordt een sfeervol optreden vol swingende klanken\, mooie samenzang en zomerse vibes. Aanvang 19.30 uur. \nTot dan! Zing de zomer uit met ons!
URL:https://zwingkoor.nl/event/zomerafsluiting-met-het-zwingkoor-open-repetitie-op-het-water/
LOCATION:Drijvend podium\, Marktplein\, Almelo\, Netherlands
CATEGORIES:Optredens
ATTACH;FMTTYPE=image/jpeg:https://zwingkoor.nl/wp-content/uploads/event/Drijvend-podium.jpg
ORGANIZER;CN="Zwingkoor":MAILTO:zwingkoor@gmail.com
END:VEVENT
END:VCALENDAR