BEGIN:VCALENDAR
VERSION:2.0
PRODID:-//Zwingkoor - ECPv6.15.13.1//NONSGML v1.0//EN
CALSCALE:GREGORIAN
METHOD:PUBLISH
X-ORIGINAL-URL:https://zwingkoor.nl
X-WR-CALDESC:Evenementen voor Zwingkoor
REFRESH-INTERVAL;VALUE=DURATION:PT1H
X-Robots-Tag:noindex
X-PUBLISHED-TTL:PT1H
BEGIN:VTIMEZONE
TZID:Europe/Paris
BEGIN:DAYLIGHT
TZOFFSETFROM:+0100
TZOFFSETTO:+0200
TZNAME:CEST
DTSTART:20250330T010000
END:DAYLIGHT
BEGIN:STANDARD
TZOFFSETFROM:+0200
TZOFFSETTO:+0100
TZNAME:CET
DTSTART:20251026T010000
END:STANDARD
BEGIN:DAYLIGHT
TZOFFSETFROM:+0100
TZOFFSETTO:+0200
TZNAME:CEST
DTSTART:20260329T010000
END:DAYLIGHT
BEGIN:STANDARD
TZOFFSETFROM:+0200
TZOFFSETTO:+0100
TZNAME:CET
DTSTART:20261025T010000
END:STANDARD
BEGIN:DAYLIGHT
TZOFFSETFROM:+0100
TZOFFSETTO:+0200
TZNAME:CEST
DTSTART:20270328T010000
END:DAYLIGHT
BEGIN:STANDARD
TZOFFSETFROM:+0200
TZOFFSETTO:+0100
TZNAME:CET
DTSTART:20271031T010000
END:STANDARD
END:VTIMEZONE
BEGIN:VEVENT
DTSTART;TZID=Europe/Paris:20260425T150000
DTEND;TZID=Europe/Paris:20260425T153000
DTSTAMP:20260422T235020
CREATED:20260111T134127Z
LAST-MODIFIED:20260315T154842Z
UID:11778-1777129200-1777131000@zwingkoor.nl
SUMMARY:Vrienden van Almelo Live 2026
DESCRIPTION:Voor het derde jaar op rij doet het Zwingkoor mee aan Vrienden van Almelo live. Na twee succesvolle edities staan wij opnieuw op het podium om samen met andere koren en orkesten een middag vol muziek en gezelligheid te verzorgen. Dit jaar staan wij in de Grote kerk in Almelo en het optreden begint om 15 uur.
URL:https://zwingkoor.nl/event/vrienden-van-almelo-live-o-v-b-van-beschikbaarheid-locaties/
LOCATION:Grote kerk Almelo\, Almelo\, Netherlands
CATEGORIES:Optredens
ATTACH;FMTTYPE=image/jpeg:https://zwingkoor.nl/wp-content/uploads/event/flyer-Vrienden-van-Almelo-Live.jpg
END:VEVENT
END:VCALENDAR