BEGIN:VCALENDAR
VERSION:2.0
PRODID:-//Zwingkoor - ECPv6.15.13.1//NONSGML v1.0//EN
CALSCALE:GREGORIAN
METHOD:PUBLISH
X-WR-CALNAME:Zwingkoor
X-ORIGINAL-URL:https://zwingkoor.nl
X-WR-CALDESC:Evenementen voor Zwingkoor
REFRESH-INTERVAL;VALUE=DURATION:PT1H
X-Robots-Tag:noindex
X-PUBLISHED-TTL:PT1H
BEGIN:VTIMEZONE
TZID:Europe/Paris
BEGIN:DAYLIGHT
TZOFFSETFROM:+0100
TZOFFSETTO:+0200
TZNAME:CEST
DTSTART:20230326T010000
END:DAYLIGHT
BEGIN:STANDARD
TZOFFSETFROM:+0200
TZOFFSETTO:+0100
TZNAME:CET
DTSTART:20231029T010000
END:STANDARD
BEGIN:DAYLIGHT
TZOFFSETFROM:+0100
TZOFFSETTO:+0200
TZNAME:CEST
DTSTART:20240331T010000
END:DAYLIGHT
BEGIN:STANDARD
TZOFFSETFROM:+0200
TZOFFSETTO:+0100
TZNAME:CET
DTSTART:20241027T010000
END:STANDARD
BEGIN:DAYLIGHT
TZOFFSETFROM:+0100
TZOFFSETTO:+0200
TZNAME:CEST
DTSTART:20250330T010000
END:DAYLIGHT
BEGIN:STANDARD
TZOFFSETFROM:+0200
TZOFFSETTO:+0100
TZNAME:CET
DTSTART:20251026T010000
END:STANDARD
BEGIN:DAYLIGHT
TZOFFSETFROM:+0100
TZOFFSETTO:+0200
TZNAME:CEST
DTSTART:20260329T010000
END:DAYLIGHT
BEGIN:STANDARD
TZOFFSETFROM:+0200
TZOFFSETTO:+0100
TZNAME:CET
DTSTART:20261025T010000
END:STANDARD
END:VTIMEZONE
BEGIN:VTIMEZONE
TZID:Europe/Amsterdam
BEGIN:DAYLIGHT
TZOFFSETFROM:+0100
TZOFFSETTO:+0200
TZNAME:CEST
DTSTART:20230326T010000
END:DAYLIGHT
BEGIN:STANDARD
TZOFFSETFROM:+0200
TZOFFSETTO:+0100
TZNAME:CET
DTSTART:20231029T010000
END:STANDARD
BEGIN:DAYLIGHT
TZOFFSETFROM:+0100
TZOFFSETTO:+0200
TZNAME:CEST
DTSTART:20240331T010000
END:DAYLIGHT
BEGIN:STANDARD
TZOFFSETFROM:+0200
TZOFFSETTO:+0100
TZNAME:CET
DTSTART:20241027T010000
END:STANDARD
BEGIN:DAYLIGHT
TZOFFSETFROM:+0100
TZOFFSETTO:+0200
TZNAME:CEST
DTSTART:20250330T010000
END:DAYLIGHT
BEGIN:STANDARD
TZOFFSETFROM:+0200
TZOFFSETTO:+0100
TZNAME:CET
DTSTART:20251026T010000
END:STANDARD
END:VTIMEZONE
BEGIN:VEVENT
DTSTART;TZID=Europe/Paris:20251222T103000
DTEND;TZID=Europe/Paris:20251222T120000
DTSTAMP:20260422T234950
CREATED:20251214T102238Z
LAST-MODIFIED:20251214T105957Z
UID:11686-1766399400-1766404800@zwingkoor.nl
SUMMARY:Zorgboerderij 't Klein Wierke
DESCRIPTION:
URL:https://zwingkoor.nl/event/11686/
END:VEVENT
BEGIN:VEVENT
DTSTART;TZID=Europe/Paris:20251220T150000
DTEND;TZID=Europe/Paris:20251220T170000
DTSTAMP:20260422T234950
CREATED:20250915T131823Z
LAST-MODIFIED:20251005T110619Z
UID:11411-1766242800-1766250000@zwingkoor.nl
SUMMARY:Kerstconcert met shanty koor de Oostvaarders
DESCRIPTION:Theaterhotel Almelo\, toegangskaarten verkrijgbaar aan de kassa als ook in de voorverkoop via een mail naar oostvaardersalmelo@gmail.com. Zie voor verdere informatie de flyer.
URL:https://zwingkoor.nl/event/kerstconcert-met-shanty-koor-de-oostvaarders/
LOCATION:Theaterhotel Almelo\, Schouwburgplein 1\, Almelo\, 7607AE
CATEGORIES:Optredens
END:VEVENT
BEGIN:VEVENT
DTSTART;TZID=Europe/Paris:20251121T143000
DTEND;TZID=Europe/Paris:20251121T153000
DTSTAMP:20260422T234950
CREATED:20250915T131142Z
LAST-MODIFIED:20250915T131205Z
UID:11408-1763735400-1763739000@zwingkoor.nl
SUMMARY:Optreden woonlocatie Titus Brandsmahof
DESCRIPTION:Besloten optreden voor de bewoners en familie van woonlocatie Titus Brandsmahof.
URL:https://zwingkoor.nl/event/optreden-woonlocatie-titus-brandsmahof/
LOCATION:Woonlocatie Titus Brandsmahof
CATEGORIES:Optredens
END:VEVENT
BEGIN:VEVENT
DTSTART;TZID=Europe/Paris:20251009T190000
DTEND;TZID=Europe/Paris:20251009T200000
DTSTAMP:20260422T234950
CREATED:20250915T130512Z
LAST-MODIFIED:20250915T130548Z
UID:11404-1760036400-1760040000@zwingkoor.nl
SUMMARY:Optreden woonlocatie de Weijdehof
DESCRIPTION:Besloten optreden voor bewoners van woonlocatie de Weijdehof.
URL:https://zwingkoor.nl/event/optreden-woonlocatie-de-weijdehof/
LOCATION:Woonlocatie de Weijdehof\, Schietspoel 2-4\, Almelo
CATEGORIES:Optredens
END:VEVENT
BEGIN:VEVENT
DTSTART;TZID=Europe/Paris:20250928T143000
DTEND;TZID=Europe/Paris:20250928T151500
DTSTAMP:20260422T234950
CREATED:20250910T100249Z
LAST-MODIFIED:20250923T161354Z
UID:11291-1759069800-1759072500@zwingkoor.nl
SUMMARY:Almelo op 't Rabat
DESCRIPTION:Kom luisteren\, meezingen en genieten van een gevarieerd repertoire vol bekende en verrassende nummers.
URL:https://zwingkoor.nl/event/almelo-op-t-rabat/
LOCATION:Koornmarkt centrum Almelo\, 7607 hz
CATEGORIES:Optredens
END:VEVENT
BEGIN:VEVENT
DTSTART;TZID=Europe/Paris:20250710T193000
DTEND;TZID=Europe/Paris:20250710T203000
DTSTAMP:20260422T234950
CREATED:20250708T204055Z
LAST-MODIFIED:20250923T163336Z
UID:11168-1752175800-1752179400@zwingkoor.nl
SUMMARY:Zomerafsluiting met het Zwingkoor - Open repetitie op het water
DESCRIPTION:Kom genieten van een zwoele\, muzikale avond op een unieke locatie! Wij nodigen je van harte uit voor een gratis open repetitie/optreden op het drijvende podium op het Marktplein als feestelijke afsluiting van het zangseizoen. Het wordt een sfeervol optreden vol swingende klanken\, mooie samenzang en zomerse vibes. Aanvang 19.30 uur. \nTot dan! Zing de zomer uit met ons!
URL:https://zwingkoor.nl/event/zomerafsluiting-met-het-zwingkoor-open-repetitie-op-het-water/
LOCATION:Drijvend podium\, Marktplein\, Almelo\, Netherlands
CATEGORIES:Optredens
ATTACH;FMTTYPE=image/jpeg:https://zwingkoor.nl/wp-content/uploads/event/Drijvend-podium.jpg
ORGANIZER;CN="Zwingkoor":MAILTO:zwingkoor@gmail.com
END:VEVENT
BEGIN:VEVENT
DTSTART;TZID=Europe/Paris:20250510T123000
DTEND;TZID=Europe/Paris:20250510T163000
DTSTAMP:20260422T234950
CREATED:20241005T124624Z
LAST-MODIFIED:20250923T163355Z
UID:9228-1746880200-1746894600@zwingkoor.nl
SUMMARY:Vrienden Van Almelo Live
DESCRIPTION:Wij treden op om 14:00 uur in de Bleekkerk. Wees welkom! \nVorig jaar was het een groot succes en daar hopen we nu weer op. \nZie hieronder het hele programma:
URL:https://zwingkoor.nl/event/vrienden-van-almelo-live-10-mei-2025/
LOCATION:Binnenstad Almelo\, Almelo\, 7607HS
ATTACH;FMTTYPE=image/png:https://zwingkoor.nl/wp-content/uploads/event/opening.png
END:VEVENT
BEGIN:VEVENT
DTSTART;TZID=Europe/Paris:20241223T000000
DTEND;TZID=Europe/Paris:20241223T000000
DTSTAMP:20260422T234950
CREATED:20241124T124900Z
LAST-MODIFIED:20241124T130611Z
UID:10059-1734912000-1734912000@zwingkoor.nl
SUMMARY:Optreden Zorgboerderij Klein Wierke
DESCRIPTION:Besloten optreden in de Almelo-lounge van het Heraclesstadion
URL:https://zwingkoor.nl/event/optreden-zorgboerderij-klein-wierken/
END:VEVENT
BEGIN:VEVENT
DTSTART;TZID=Europe/Paris:20241215T000000
DTEND;TZID=Europe/Paris:20241215T000000
DTSTAMP:20260422T234950
CREATED:20241005T091712Z
LAST-MODIFIED:20250923T163411Z
UID:9211-1734220800-1734220800@zwingkoor.nl
SUMMARY:Kerstkorenfestival 2024
DESCRIPTION:Kerstkorenfestival in de binnenstad van Almelo\nWij zijn er weer bij..\n 
URL:https://zwingkoor.nl/event/kerstkorenfestival-2024/
LOCATION:Binnenstad Almelo\, Almelo\, 7607HS
END:VEVENT
BEGIN:VEVENT
DTSTART;TZID=Europe/Paris:20241128T000000
DTEND;TZID=Europe/Paris:20241128T000000
DTSTAMP:20260422T234950
CREATED:20241027T090426Z
LAST-MODIFIED:20241109T133740Z
UID:9541-1732752000-1732752000@zwingkoor.nl
SUMMARY:Optreden De Klokkenbelt
DESCRIPTION:Besloten optreden in De Klokkenbelt Almelo
URL:https://zwingkoor.nl/event/28-november-optreden-de-klokkenbelt/
END:VEVENT
BEGIN:VEVENT
DTSTART;TZID=Europe/Paris:20240915T150000
DTEND;TZID=Europe/Paris:20240915T154500
DTSTAMP:20260422T234950
CREATED:20240902T203540Z
LAST-MODIFIED:20240910T205756Z
UID:8628-1726412400-1726415100@zwingkoor.nl
SUMMARY:Almelo op 't rabat
DESCRIPTION:Het bruisende evenement dat de stad op z’n best laat zien! Dit feestelijke evenement biedt een dynamische mix van kunst\, muziek en cultuur op verschillende locaties door de stad. Ontdek de unieke kunstwerken van lokale kunstenaars op de Koornmarkt en geniet van een gevarieerd muziekprogramma op het dansplein. Op het Marktplein/Corridor kunt u heerlijk rondwandelen over de Pasar Senang Almelo\, een levendige markt met Indische lekkernijen\, kraampjes en live muziek. De Galerij zorgt voor muzikale hoogtepunten met optredens van accordeonvereniging de Almelonia’s en het Zwingkoor.
URL:https://zwingkoor.nl/event/8628/
LOCATION:Binnenstad Almelo\, Almelo\, 7607HS
END:VEVENT
BEGIN:VEVENT
DTSTART;TZID=Europe/Amsterdam:20240420T120000
DTEND;TZID=Europe/Amsterdam:20240420T180000
DTSTAMP:20260422T234950
CREATED:20240227T233147Z
LAST-MODIFIED:20240227T234525Z
UID:6112-1713614400-1713636000@zwingkoor.nl
SUMMARY:Het Twents Volkslied - Koornmarkt
DESCRIPTION:Foto van de Koornmarkt in Almelo\nDe aftrap is met alle koren op de Koornmarkt met het Twents Volkslied.\nDaarna een wisseling van de koren op beide locaties. \nWees welkom! \nDeelnemers:\nZwingkoor\, Oostvaarders\, Schellevissen\, Akkoord\, Sursum Corda\, Toonkunst\, Almelo’s Mannenkoor\, Almelo’s Christelijk Mannenkoor\, Almelo’s Overdag Koor en het Orkest van Almelo
URL:https://zwingkoor.nl/event/koornmarkt-twents-volkslied/
LOCATION:De Doopsgezinde Kerk\, Grotestraat 57\, Almelo\, Overijssel\, Nederland
CATEGORIES:Ontwikkeling,Optredens
ORGANIZER;CN="Zwingkoor":MAILTO:zwingkoor@gmail.com
END:VEVENT
END:VCALENDAR